BEGIN:VCALENDAR
VERSION:2.0
PRODID:-//jEvents 2.0 for Joomla//EN
CALSCALE:GREGORIAN
METHOD:PUBLISH
BEGIN:VTIMEZONE
TZID:Europe/Berlin
BEGIN:STANDARD
DTSTART:20230315T193000
RDATE:20230326T030000
TZOFFSETFROM:+0200
TZOFFSETTO:+0100
TZNAME:Europe/Berlin CET
END:STANDARD
BEGIN:STANDARD
DTSTART:20231029T020000
RDATE:20240331T030000
TZOFFSETFROM:+0200
TZOFFSETTO:+0100
TZNAME:Europe/Berlin CET
END:STANDARD
BEGIN:STANDARD
DTSTART:20241027T020000
RDATE:20250330T030000
TZOFFSETFROM:+0200
TZOFFSETTO:+0100
TZNAME:Europe/Berlin CET
END:STANDARD
BEGIN:STANDARD
DTSTART:20251026T020000
RDATE:20260329T030000
TZOFFSETFROM:+0200
TZOFFSETTO:+0100
TZNAME:Europe/Berlin CET
END:STANDARD
BEGIN:STANDARD
DTSTART:20261025T020000
RDATE:20270328T030000
TZOFFSETFROM:+0200
TZOFFSETTO:+0100
TZNAME:Europe/Berlin CET
END:STANDARD
BEGIN:STANDARD
DTSTART:20271031T020000
RDATE:20280326T030000
TZOFFSETFROM:+0200
TZOFFSETTO:+0100
TZNAME:Europe/Berlin CET
END:STANDARD
BEGIN:STANDARD
DTSTART:20281029T020000
RDATE:20290325T030000
TZOFFSETFROM:+0200
TZOFFSETTO:+0100
TZNAME:Europe/Berlin CET
END:STANDARD
BEGIN:STANDARD
DTSTART:20291028T020000
RDATE:20300331T030000
TZOFFSETFROM:+0200
TZOFFSETTO:+0100
TZNAME:Europe/Berlin CET
END:STANDARD
BEGIN:STANDARD
DTSTART:20301027T020000
RDATE:20310330T030000
TZOFFSETFROM:+0200
TZOFFSETTO:+0100
TZNAME:Europe/Berlin CET
END:STANDARD
BEGIN:STANDARD
DTSTART:20311026T020000
RDATE:20320328T030000
TZOFFSETFROM:+0200
TZOFFSETTO:+0100
TZNAME:Europe/Berlin CET
END:STANDARD
BEGIN:DAYLIGHT
DTSTART:20230326T030000
RDATE:20231029T020000
TZOFFSETFROM:+0100
TZOFFSETTO:+0200
TZNAME:Europe/Berlin CEST
END:DAYLIGHT
BEGIN:DAYLIGHT
DTSTART:20240331T030000
RDATE:20241027T020000
TZOFFSETFROM:+0100
TZOFFSETTO:+0200
TZNAME:Europe/Berlin CEST
END:DAYLIGHT
BEGIN:DAYLIGHT
DTSTART:20250330T030000
RDATE:20251026T020000
TZOFFSETFROM:+0100
TZOFFSETTO:+0200
TZNAME:Europe/Berlin CEST
END:DAYLIGHT
BEGIN:DAYLIGHT
DTSTART:20260329T030000
RDATE:20261025T020000
TZOFFSETFROM:+0100
TZOFFSETTO:+0200
TZNAME:Europe/Berlin CEST
END:DAYLIGHT
BEGIN:DAYLIGHT
DTSTART:20270328T030000
RDATE:20271031T020000
TZOFFSETFROM:+0100
TZOFFSETTO:+0200
TZNAME:Europe/Berlin CEST
END:DAYLIGHT
BEGIN:DAYLIGHT
DTSTART:20280326T030000
RDATE:20281029T020000
TZOFFSETFROM:+0100
TZOFFSETTO:+0200
TZNAME:Europe/Berlin CEST
END:DAYLIGHT
BEGIN:DAYLIGHT
DTSTART:20290325T030000
RDATE:20291028T020000
TZOFFSETFROM:+0100
TZOFFSETTO:+0200
TZNAME:Europe/Berlin CEST
END:DAYLIGHT
BEGIN:DAYLIGHT
DTSTART:20300331T030000
RDATE:20301027T020000
TZOFFSETFROM:+0100
TZOFFSETTO:+0200
TZNAME:Europe/Berlin CEST
END:DAYLIGHT
BEGIN:DAYLIGHT
DTSTART:20310330T030000
RDATE:20311026T020000
TZOFFSETFROM:+0100
TZOFFSETTO:+0200
TZNAME:Europe/Berlin CEST
END:DAYLIGHT
END:VTIMEZONE
BEGIN:VEVENT
UID:fa58ce78c2610b49fc9eb3d6ad808d3a
CATEGORIES:Allgemein
CREATED:20240301T164908
SUMMARY:TVE Mitgliederversammlung
LOCATION:Echterdingen\, Ristorante Goldäcker
DESCRIPTION:<!-- START: Articles Anywhere --><div><article class="item item-page item-f
 eatured" itemscope itemtype="http://schema.org/Article">
	<meta itemprop="i
 nLanguage" content="de-DE">
		<div class="page-header">
		<h1> Kalender </h
 1>
	</div>
	
	

	<div class="entry-header has-post-format">
		
		
			</div>
 

					
	
	
				
	
			<div itemprop="articleBody">
		<div>Hiermit laden wir
  alle unsere Mitglieder recht herzlich zur diesj&auml;hrigen</div><div>&nbs
 p;</div><div><strong>Mitgliederversammlung des TV Echterdingen 1892 e.V. </
 strong></div><div><strong>am 15.03.2024 um 19.30 Uhr ins Ristorante Gold&au
 ml;cker ein.</strong></div><div>&nbsp;</div><div><strong>Tagesordnung: </st
 rong></div><div>&nbsp;</div><ol><li>Begr&uuml;&szlig;ung</li><li>Ehrungen</
 li><li>Berichte<ol type="a"><li>Vorstand</li><li>Kassenpr&uuml;fer</li></ol
 ></li><li>Entlastung</li><li>Neuwahlen<ol type="a"><li>Vorstand</li><li>&Au
 ml;ltestenrat</li><li>Beisitzer&nbsp;</li><li>Kassenpr&uuml;fer</li></ol></
 li><li>Antr&auml;ge</li><li>Verschiedenes</li></ol><div>&nbsp;</div><div>An
 tr&auml;ge sind bis sp&auml;testens 07.03.2024 auf der Gesch&auml;ftsstelle
  unter <joomla-hidden-mail is-link="1" is-email="1" first="aW5mbw==" last="
 dHYtZWNodGVyZGluZ2VuLmRl" text="aW5mb0B0di1lY2h0ZXJkaW5nZW4uZGU=" base="">D
 iese E-Mail-Adresse ist vor Spambots gesch&uuml;tzt! Zur Anzeige muss JavaS
 cript eingeschaltet sein.</joomla-hidden-mail> einzureichen.</div><div>&nbs
 p;</div><div>Wir freuen uns &uuml;ber eine rege Teilnahme und im Anschluss 
 an die Mitgliederversammlung &uuml;ber ein gem&uuml;tliches Beisammensein i
 m Club - Restaurant.</div><div>&nbsp;</div><div>Horst Duda</div><div>1. Vor
 stand TV Echterdingen</div> 	</div>

	
	
				
	
	
			<div class="article-fo
 oter-wrap">
			<div class="article-footer-top">
									<div class="helix-
 social-share">
		<div class="helix-social-share-icon">
			<ul>
				<li>
			
 		<div class="facebook" data-toggle="tooltip" data-placement="top" title="A
 uf Facebook teilen">
						<a class="facebook" onclick="window.open('https:
 //www.facebook.com/sharer.php?u=https://tv-echterdingen.de/73-hauptverein/1
 560-einladung-zur-mitgliederversammlung-des-tv-echterdingen-am-15-03-2024',
 'Facebook','width=600,height=300,left='+(screen.availWidth/2-300)+',top='+(
 screen.availHeight/2-150)+''); return false;" href="https://www.facebook.co
 m/sharer.php?u=https://tv-echterdingen.de/73-hauptverein/1560-einladung-zur
 -mitgliederversammlung-des-tv-echterdingen-am-15-03-2024">
							<i class=
 "fa fa-facebook"></i>
						</a>
					</div>
				</li>

				<li>
					<div 
 class="twitter" data-toggle="tooltip" data-placement="top" title="Auf Twitt
 er teilen">
						<a class="twitter" onclick="window.open('https://twitter.
 com/share?url=https://tv-echterdingen.de/73-hauptverein/1560-einladung-zur-
 mitgliederversammlung-des-tv-echterdingen-am-15-03-2024&amp;text=Einladung%
 20zur%20Mitgliederversammlung%20des%20TV%20Echterdingen%20am%2015.03.2024%2
 0','Twitter share','width=600,height=300,left='+(screen.availWidth/2-300)+'
 ,top='+(screen.availHeight/2-150)+''); return false;" href="http://twitter.
 com/share?url=https://tv-echterdingen.de/73-hauptverein/1560-einladung-zur-
 mitgliederversammlung-des-tv-echterdingen-am-15-03-2024&amp;text=Einladung%
 20zur%20Mitgliederversammlung%20des%20TV%20Echterdingen%20am%2015.03.2024%2
 0">
							<i class="fa fa-twitter"></i>
						</a>
					</div>
				</li>
	
 			
				<li>
					<div class="linkedin">
						<a class="linkedin" data-tog
 gle="tooltip" data-placement="top" title="Auf Linkedin teilen" onclick="win
 dow.open('https://www.linkedin.com/shareArticle?mini=true&amp;url=https://t
 v-echterdingen.de/73-hauptverein/1560-einladung-zur-mitgliederversammlung-d
 es-tv-echterdingen-am-15-03-2024','Linkedin','width=585,height=666,left='+(
 screen.availWidth/2-292)+',top='+(screen.availHeight/2-333)+''); return fal
 se;" href="https://www.linkedin.com/shareArticle?mini=true&amp;url=https://
 tv-echterdingen.de/73-hauptverein/1560-einladung-zur-mitgliederversammlung-
 des-tv-echterdingen-am-15-03-2024">
							<i class="fa fa-linkedin-square"
 ></i>
						</a>
					</div>
				</li>
			</ul>
		</div>		
	</div>
			</div
 >
					</div>
	
</article>
</div><!-- END: Articles Anywhere -->
DTSTAMP:20260421T013708
DTSTART;TZID=Europe/Berlin:20240315T193000
SEQUENCE:0
TRANSP:OPAQUE
END:VEVENT
END:VCALENDAR